BEGIN:VCALENDAR
VERSION:2.0
PRODID:-//ChamberMaster//Event Calendar 2.0//EN
METHOD:PUBLISH
X-PUBLISHED-TTL:P1H
REFRESH-INTERVAL:P1H
CALSCALE:GREGORIAN
BEGIN:VTIMEZONE
TZID:America/Chicago
BEGIN:DAYLIGHT
RRULE:FREQ=YEARLY;BYMONTH=3;BYDAY=2SU
DTSTART:20070101T000000
TZOFFSETFROM:-0600
TZOFFSETTO:-0500
TZNAME:Central Daylight Time
END:DAYLIGHT
BEGIN:STANDARD
RRULE:FREQ=YEARLY;BYMONTH=11;BYDAY=1SU
DTSTART:20070101T000000
TZOFFSETFROM:-0500
TZOFFSETTO:-0600
TZNAME:Central Standard Time
END:STANDARD
END:VTIMEZONE
BEGIN:VEVENT
DTSTART;TZID=America/Chicago:20260617T090000
DTEND;TZID=America/Chicago:20260617T140000
X-MICROSOFT-CDO-ALLDAYEVENT:FALSE
SUMMARY:1-4 Contract Boot Camp
DESCRIPTION:The purpose of this course is to familiarize the real estate professional with the most commonly used sales contract in a residential real estate transaction. This class provides an in depth analysis of various aspects of the TREC1-4 contract. It discusses the structure and nature of a residential contract along with agent responsibilities. The class teaches on basic liability theories arising from the TREC one to four contract. The class also teaches the real estate agent best practices when using the 1-4 contract as well as contract do's and don'ts.Provider #: 1Provider: Texas REALTORS Course: 06127-RECE Instructor: Clayton Jewett
X-ALT-DESC;FMTTYPE=text/html:<!DOCTYPE html><html><head><title></title></head><body aria-disabled="false" data-gr-ext-installed="" data-new-gr-c-s-check-loaded="14.1282.0" data-new-gr-c-s-loaded="14.1282.0"><p>The purpose of this course is to familiarize the real estate professional with the most commonly used sales contract in a residential real estate transaction. This class provides an in depth analysis of various aspects of the TREC1-4 contract. It discusses the structure and nature of a residential contract along with agent responsibilities. The class teaches on basic liability theories arising from the TREC one to four contract. The class also teaches the real estate agent best practices when using the 1-4 contract as well as contract do&rsquo\;s and don&rsquo\;ts.</p><p>Provider #: 1</p><p>Provider: Texas REALTORS&reg\;</p><p>Course: 06127-RECE&nbsp\;</p><p>Instructor: Clayton Jewett</p><p><br></p></body></html>
LOCATION:
UID:e.1539.1450119
SEQUENCE:3
DTSTAMP:20260425T213212Z
URL:https://members.spirealtors.com/calendar/Details/1-4-contract-boot-camp-1717699?sourceTypeId=Hub
END:VEVENT
END:VCALENDAR
