BEGIN:VCALENDAR
VERSION:2.0
PRODID:-//ChamberMaster//Event Calendar 2.0//EN
METHOD:PUBLISH
X-PUBLISHED-TTL:P1H
REFRESH-INTERVAL:P1H
CALSCALE:GREGORIAN
BEGIN:VTIMEZONE
TZID:America/Chicago
BEGIN:DAYLIGHT
RRULE:FREQ=YEARLY;BYMONTH=3;BYDAY=2SU
DTSTART:20070101T000000
TZOFFSETFROM:-0600
TZOFFSETTO:-0500
TZNAME:Central Daylight Time
END:DAYLIGHT
BEGIN:STANDARD
RRULE:FREQ=YEARLY;BYMONTH=11;BYDAY=1SU
DTSTART:20070101T000000
TZOFFSETFROM:-0500
TZOFFSETTO:-0600
TZNAME:Central Standard Time
END:STANDARD
END:VTIMEZONE
BEGIN:VEVENT
DTSTART;TZID=America/Chicago:20260604T130000
DTEND;TZID=America/Chicago:20260604T160000
X-MICROSOFT-CDO-ALLDAYEVENT:FALSE
SUMMARY:CMAs/ Adjustments & Theories
DESCRIPTION:Agents need to be competent in calculating accurate price comparisons which requires training and practice. The course will provide basic knowledge to complete a Comparative Market Analysis (CMA). The course will offer training in choosing comparables\, applying adjustments and acknowledging market conditions. It will cover what determines an appropriate comparable between properties\, how to make adjustments and where to find information to derive adjustments. The course will provide information that can be used in property evaluation scenarios and better assist clients whether buying or selling.Provider #: 1Provider: Texas REALTORS Course: 05924-RECEInstructor: Candy Cooke
X-ALT-DESC;FMTTYPE=text/html:<!DOCTYPE html><html><head><title></title></head><body aria-disabled="false" data-gr-ext-installed="" data-new-gr-c-s-check-loaded="14.1282.0" data-new-gr-c-s-loaded="14.1282.0"><p>Agents need to be competent in calculating accurate price comparisons which requires training and practice. The course will provide basic knowledge to complete a Comparative Market Analysis (CMA). The course will offer training in choosing comparables\, applying adjustments and acknowledging market conditions. It will cover what determines an appropriate comparable between properties\, how to make adjustments and where to find information to derive adjustments. The course will provide information that can be used in property evaluation scenarios and better assist clients whether buying or selling.</p><p>Provider #: 1</p><p>Provider: Texas REALTORS&reg\;</p><p>Course: 05924-RECE</p><p>Instructor: Candy Cooke</p><p><br></p></body></html>
LOCATION:
UID:e.1539.1444697
SEQUENCE:3
DTSTAMP:20260425T213414Z
URL:https://members.spirealtors.com/calendar/Details/cmas-adjustments-theories-1711101?sourceTypeId=Hub
END:VEVENT
END:VCALENDAR
