BEGIN:VCALENDAR
VERSION:2.0
PRODID:-//ChamberMaster//Event Calendar 2.0//EN
METHOD:PUBLISH
X-PUBLISHED-TTL:P1H
REFRESH-INTERVAL:P1H
CALSCALE:GREGORIAN
BEGIN:VTIMEZONE
TZID:America/Chicago
BEGIN:DAYLIGHT
RRULE:FREQ=YEARLY;BYMONTH=3;BYDAY=2SU
DTSTART:20070101T000000
TZOFFSETFROM:-0600
TZOFFSETTO:-0500
TZNAME:Central Daylight Time
END:DAYLIGHT
BEGIN:STANDARD
RRULE:FREQ=YEARLY;BYMONTH=11;BYDAY=1SU
DTSTART:20070101T000000
TZOFFSETFROM:-0500
TZOFFSETTO:-0600
TZNAME:Central Standard Time
END:STANDARD
END:VTIMEZONE
BEGIN:VEVENT
DTSTART;TZID=America/Chicago:20260415T090000
DTEND;TZID=America/Chicago:20260415T120000
X-MICROSOFT-CDO-ALLDAYEVENT:FALSE
SUMMARY:Discovering Commercial Real Estate
DESCRIPTION:This introductory course is designed specifically for agents interested in Commercial Real Estate but don't know where to start and will explore the core principles of commercial real estate\, from market cycles and property sectors to lease clauses and investment analysis. Students will understand how economic trends and financial metrics impact performance\, and develop the skills needed to succeed in the commercial arena.Provider #: 1Provider: Texas REALTORS Course: 06129-RECEInstructor: Brent Lancaster
X-ALT-DESC;FMTTYPE=text/html:<!DOCTYPE html><html><head><title></title></head><body aria-disabled="false" data-gr-ext-installed="" data-new-gr-c-s-check-loaded="14.1280.0" data-new-gr-c-s-loaded="14.1280.0"><p>This introductory course is designed specifically for agents interested in Commercial Real Estate but don&#39\;t know where to start and will explore the core principles of commercial real estate\, from market cycles and property sectors to lease clauses and investment analysis. Students will understand how economic trends and financial metrics impact performance\, and develop the skills needed to succeed in the commercial arena.</p><p>Provider #: 1</p><p>Provider: Texas REALTORS&reg\;</p><p>Course: 06129-RECE</p><p>Instructor: Brent Lancaster</p><p><br></p></body></html>
LOCATION:
UID:e.1539.1437194
SEQUENCE:3
DTSTAMP:20260425T213431Z
URL:https://members.spirealtors.com/calendar/Details/discovering-commercial-real-estate-1701140?sourceTypeId=Hub
END:VEVENT
END:VCALENDAR
