BEGIN:VCALENDAR
VERSION:2.0
PRODID:-//ChamberMaster//Event Calendar 2.0//EN
METHOD:PUBLISH
X-PUBLISHED-TTL:P1H
REFRESH-INTERVAL:P1H
CALSCALE:GREGORIAN
BEGIN:VTIMEZONE
TZID:America/Chicago
BEGIN:DAYLIGHT
RRULE:FREQ=YEARLY;BYMONTH=3;BYDAY=2SU
DTSTART:20070101T000000
TZOFFSETFROM:-0600
TZOFFSETTO:-0500
TZNAME:Central Daylight Time
END:DAYLIGHT
BEGIN:STANDARD
RRULE:FREQ=YEARLY;BYMONTH=11;BYDAY=1SU
DTSTART:20070101T000000
TZOFFSETFROM:-0500
TZOFFSETTO:-0600
TZNAME:Central Standard Time
END:STANDARD
END:VTIMEZONE
BEGIN:VEVENT
DTSTART;TZID=America/Chicago:20260611T090000
DTEND;TZID=America/Chicago:20260611T120000
X-MICROSOFT-CDO-ALLDAYEVENT:FALSE
SUMMARY:Fair Housing
DESCRIPTION:This course aims to focus on the importance and history of the Federal Fair Housing Act and its application in today's real estate environment. We will discuss how the Department of Housing and Urban Development enforces the Federal Fair Housing Act as well as review the most common discriminatory practices like service and assistive animals and how to best handle a reasonable accommodation request. We will also examine examples of Federal Fair Housing complaints and discuss Federal Fair Housing initiatives and resources.Course #: 06211-RECE Provider #: 1 Provider: Texas REALTORS  Instructor: Brent Lancaster
X-ALT-DESC;FMTTYPE=text/html:<!DOCTYPE html><html><head><title></title></head><body aria-disabled="false" data-gr-ext-installed="" data-new-gr-c-s-check-loaded="14.1282.0" data-new-gr-c-s-loaded="14.1282.0"><p>This course aims to focus on the importance and history of the Federal Fair Housing Act and its application in today&#39\;s real estate environment. We will discuss how the Department of Housing and Urban Development enforces the Federal Fair Housing Act as well as review the most common discriminatory practices like service and assistive animals and how to best handle a reasonable accommodation request. We will also examine examples of Federal Fair Housing complaints and discuss Federal Fair Housing initiatives and resources.</p><p>Course #: 06211-RECE </p><p>Provider #: 1</p><p>&nbsp\;Provider: Texas REALTORS&reg\;&nbsp\;</p><p>Instructor: Brent Lancaster</p></body></html>
LOCATION:
UID:e.1539.1450024
SEQUENCE:3
DTSTAMP:20260425T213338Z
URL:https://members.spirealtors.com/calendar/Details/fair-housing-1717608?sourceTypeId=Hub
END:VEVENT
END:VCALENDAR
