BEGIN:VCALENDAR
VERSION:2.0
PRODID:-//ChamberMaster//Event Calendar 2.0//EN
METHOD:PUBLISH
X-PUBLISHED-TTL:P1H
REFRESH-INTERVAL:P1H
CALSCALE:GREGORIAN
BEGIN:VTIMEZONE
TZID:America/Chicago
BEGIN:DAYLIGHT
RRULE:FREQ=YEARLY;BYMONTH=3;BYDAY=2SU
DTSTART:20070101T000000
TZOFFSETFROM:-0600
TZOFFSETTO:-0500
TZNAME:Central Daylight Time
END:DAYLIGHT
BEGIN:STANDARD
RRULE:FREQ=YEARLY;BYMONTH=11;BYDAY=1SU
DTSTART:20070101T000000
TZOFFSETFROM:-0500
TZOFFSETTO:-0600
TZNAME:Central Standard Time
END:STANDARD
END:VTIMEZONE
BEGIN:VEVENT
DTSTART;TZID=America/Chicago:20260609T130000
DTEND;TZID=America/Chicago:20260609T150000
X-MICROSOFT-CDO-ALLDAYEVENT:FALSE
SUMMARY:Introduction to RPR
DESCRIPTION:This is an in-depth analysis of the data provided by REALTORS  Property Resource (RPR)\, the nation's largest property database\, exclusively for REALTORS . We will review several features within RPR including Comp Analysis\, Searching Distressed Properties\, Mapping Tools\, Market Activity Reports\, Neighborhood Reports\, Investor Tools\, Valuing Home Improvements and more. This course will illustrate the importance of using RPR in your business so that you can differentiate yourself from the competition and provide knowledge to your clients.Provider #: 1Provider: Texas REALTORS Course: 05962-RECE Instructor:  Brent Lancaster
X-ALT-DESC;FMTTYPE=text/html:<!DOCTYPE html><html><head><title></title></head><body aria-disabled="false" data-gr-ext-installed="" data-new-gr-c-s-check-loaded="14.1272.0" data-new-gr-c-s-loaded="14.1272.0"><p>This is an in-depth analysis of the data provided by REALTORS&reg\; Property Resource (RPR)\, the nation&rsquo\;s largest property database\, exclusively for REALTORS&reg\;. We will review several features within RPR including Comp Analysis\, Searching Distressed Properties\, Mapping Tools\, Market Activity Reports\, Neighborhood Reports\, Investor Tools\, Valuing Home Improvements and more. This course will illustrate the importance of using RPR in your business so that you can differentiate yourself from the competition and provide knowledge to your clients.</p><p>Provider #: 1</p><p>Provider: Texas REALTORS&reg\;</p><p>Course: 05962-RECE </p><p>Instructor:&nbsp\; Brent Lancaster</p><p><br></p></body></html>
LOCATION:
UID:e.1539.1449522
SEQUENCE:3
DTSTAMP:20260425T213248Z
URL:https://members.spirealtors.com/calendar/Details/introduction-to-rpr-1716971?sourceTypeId=Hub
END:VEVENT
END:VCALENDAR
