BEGIN:VCALENDAR
VERSION:2.0
PRODID:-//ChamberMaster//Event Calendar 2.0//EN
METHOD:PUBLISH
X-PUBLISHED-TTL:P1H
REFRESH-INTERVAL:P1H
CALSCALE:GREGORIAN
BEGIN:VTIMEZONE
TZID:America/Chicago
BEGIN:DAYLIGHT
RRULE:FREQ=YEARLY;BYMONTH=3;BYDAY=2SU
DTSTART:20070101T000000
TZOFFSETFROM:-0600
TZOFFSETTO:-0500
TZNAME:Central Daylight Time
END:DAYLIGHT
BEGIN:STANDARD
RRULE:FREQ=YEARLY;BYMONTH=11;BYDAY=1SU
DTSTART:20070101T000000
TZOFFSETFROM:-0500
TZOFFSETTO:-0600
TZNAME:Central Standard Time
END:STANDARD
END:VTIMEZONE
BEGIN:VEVENT
DTSTART;TZID=America/Chicago:20260521T130000
DTEND;TZID=America/Chicago:20260521T160000
X-MICROSOFT-CDO-ALLDAYEVENT:FALSE
SUMMARY:Maximizing Your CMA Using Technology
DESCRIPTION:The goals of this course are to educate real estate professionals on the following: The real estate market research and valuation tools that consumers can access online. Teach the pros and cons of automated valuation models (AVM)\; how they obtain and calculate data and how MLS and RPR tools help real estate buyers and sellers make informed decisions. Train the real estate professional how to combine their specific expertise with MLS data\, tools\, and reports to benefit clients and customers before\, during\, and after the real estate transaction.Provider #: 1Provider: Texas REALTORS  Course: 06388-RECEInstructor: Candy Cooke
X-ALT-DESC;FMTTYPE=text/html:<!DOCTYPE html><html><head><title></title></head><body aria-disabled="false" data-gr-ext-installed="" data-new-gr-c-s-check-loaded="14.1282.0" data-new-gr-c-s-loaded="14.1282.0"><p>The goals of this course are to educate real estate professionals on the following: The real estate market research and valuation tools that consumers can access online. Teach the pros and cons of automated valuation models (AVM)\; how they obtain and calculate data and how MLS and RPR tools help real estate buyers and sellers make informed decisions. Train the real estate professional how to combine their specific expertise with MLS data\, tools\, and reports to benefit clients and customers before\, during\, and after the real estate transaction.</p><p><strong fr-original-style="" style="font-weight: 700\;">Provider #</strong>: 1</p><p><strong fr-original-style="" style="font-weight: 700\;">Provider</strong>: Texas REALTORS &reg\;</p><p><strong fr-original-style="" style="font-weight: 700\;">Course</strong>: 06388-RECE</p><p><strong fr-original-style="" style="font-weight: 700\;">Instructor:&nbsp\;</strong>Candy Cooke</p></body></html>
LOCATION:
UID:e.1539.1442499
SEQUENCE:3
DTSTAMP:20260425T213212Z
URL:https://members.spirealtors.com/calendar/Details/maximizing-your-cma-using-technology-1708497?sourceTypeId=Hub
END:VEVENT
END:VCALENDAR
