BEGIN:VCALENDAR
VERSION:2.0
PRODID:-//ChamberMaster//Event Calendar 2.0//EN
METHOD:PUBLISH
X-PUBLISHED-TTL:P1H
REFRESH-INTERVAL:P1H
CALSCALE:GREGORIAN
BEGIN:VTIMEZONE
TZID:America/Chicago
BEGIN:DAYLIGHT
RRULE:FREQ=YEARLY;BYMONTH=3;BYDAY=2SU
DTSTART:20070101T000000
TZOFFSETFROM:-0600
TZOFFSETTO:-0500
TZNAME:Central Daylight Time
END:DAYLIGHT
BEGIN:STANDARD
RRULE:FREQ=YEARLY;BYMONTH=11;BYDAY=1SU
DTSTART:20070101T000000
TZOFFSETFROM:-0500
TZOFFSETTO:-0600
TZNAME:Central Standard Time
END:STANDARD
END:VTIMEZONE
BEGIN:VEVENT
DTSTART;TZID=America/Chicago:20260504T140000
DTEND;TZID=America/Chicago:20260504T170000
X-MICROSOFT-CDO-ALLDAYEVENT:FALSE
SUMMARY:So You Want to Be a Property Manager
DESCRIPTION:The state of the economy has led many real estate licensees to turn to property management as an income source. If you're among that group\, it's important you become knowledgeable about the laws and duties imposed on property managers. The course will cover the residential property manager's role and the legal boundaries that govern the execution of duties. Hear about recent changes in the laws that affect property managers and find out how to handle potential legal situations. Topics covered include Seller/Buyer temporary lease\, lease purchase\, when to lease and when not to\; non-revenue property management\, and a review of property management rules.Provider #: 1Provider: Texas REALTORS Course: 06279-RECE Instructor: Angela Ochoa
X-ALT-DESC;FMTTYPE=text/html:<!DOCTYPE html><html><head><title></title></head><body aria-disabled="false" data-gr-ext-installed="" data-new-gr-c-s-check-loaded="14.1282.0" data-new-gr-c-s-loaded="14.1282.0"><p>The state of the economy has led many real estate licensees to turn to property management as an income source. If you&rsquo\;re among that group\, it&rsquo\;s important you become knowledgeable about the laws and duties imposed on property managers. The course will cover the residential property manager&#39\;s role and the legal boundaries that govern the execution of duties. Hear about recent changes in the laws that affect property managers and find out how to handle potential legal situations. Topics covered include Seller/Buyer temporary lease\, lease purchase\, when to lease and when not to\; non-revenue property management\, and a review of property management rules.</p><p>Provider #: 1</p><p>Provider: Texas REALTORS&reg\;</p><p>Course: 06279-RECE </p><p>Instructor: Angela Ochoa</p><p><br></p></body></html>
LOCATION:
UID:e.1539.1447225
SEQUENCE:3
DTSTAMP:20260425T213548Z
URL:https://members.spirealtors.com/calendar/Details/so-you-want-to-be-a-property-manager-1714086?sourceTypeId=Hub
END:VEVENT
END:VCALENDAR
