BEGIN:VCALENDAR
VERSION:2.0
PRODID:-//ChamberMaster//Event Calendar 2.0//EN
METHOD:PUBLISH
X-PUBLISHED-TTL:P1H
REFRESH-INTERVAL:P1H
CALSCALE:GREGORIAN
BEGIN:VTIMEZONE
TZID:America/Chicago
BEGIN:DAYLIGHT
RRULE:FREQ=YEARLY;BYMONTH=3;BYDAY=2SU
DTSTART:20070101T000000
TZOFFSETFROM:-0600
TZOFFSETTO:-0500
TZNAME:Central Daylight Time
END:DAYLIGHT
BEGIN:STANDARD
RRULE:FREQ=YEARLY;BYMONTH=11;BYDAY=1SU
DTSTART:20070101T000000
TZOFFSETFROM:-0500
TZOFFSETTO:-0600
TZNAME:Central Standard Time
END:STANDARD
END:VTIMEZONE
BEGIN:VEVENT
DTSTART;TZID=America/Chicago:20260515T090000
DTEND;TZID=America/Chicago:20260515T153000
X-MICROSOFT-CDO-ALLDAYEVENT:FALSE
SUMMARY:TRLS: Leasing Agreements\, Contracts\, and Forms
DESCRIPTION:At the conclusion of this course\, participants will be able to correctly and confidently use and evaluate applicable Texas REALTORS  forms like the Residential Real Estate Listing Agreement\, Exclusive Right to Lease (TXR 1102)\, Residential Lease (TXR 2001)\, and the Residential Lease Application (TXR 2003). In addition\, participants will learn about residential leasing and residential tenancy\, plus lease agreement addenda.Provider #: 1Provider: Texas REALTORS  Course: 06248-RECEInstructor: Angela Ochoa
X-ALT-DESC;FMTTYPE=text/html:<!DOCTYPE html><html><head><title></title></head><body aria-disabled="false" data-gr-ext-installed="" data-new-gr-c-s-check-loaded="14.1282.0" data-new-gr-c-s-loaded="14.1282.0"><p>At the conclusion of this course\, participants will be able to correctly and confidently use and evaluate applicable Texas REALTORS&reg\; forms like the Residential Real Estate Listing Agreement\, Exclusive Right to Lease (TXR 1102)\, Residential Lease (TXR 2001)\, and the Residential Lease Application (TXR 2003). In addition\, participants will learn about residential leasing and residential tenancy\, plus lease agreement addenda.</p><p><strong fr-original-style="" style="font-weight: 700\;">Provider #</strong>: 1</p><p><strong fr-original-style="" style="font-weight: 700\;">Provider</strong>: Texas REALTORS &reg\;</p><p><strong fr-original-style="" style="font-weight: 700\;">Course</strong>: 06248-RECE</p><p><strong fr-original-style="" style="font-weight: 700\;">Instructor:&nbsp\;</strong>Angela Ochoa</p></body></html>
LOCATION:
UID:e.1539.1447325
SEQUENCE:3
DTSTAMP:20260425T213247Z
URL:https://members.spirealtors.com/calendar/Details/trls-leasing-agreements-contracts-and-forms-1714258?sourceTypeId=Hub
END:VEVENT
END:VCALENDAR
