BEGIN:VCALENDAR
VERSION:2.0
PRODID:-//ChamberMaster//Event Calendar 2.0//EN
METHOD:PUBLISH
X-PUBLISHED-TTL:P1H
REFRESH-INTERVAL:P1H
CALSCALE:GREGORIAN
BEGIN:VTIMEZONE
TZID:America/Chicago
BEGIN:DAYLIGHT
RRULE:FREQ=YEARLY;BYMONTH=3;BYDAY=2SU
DTSTART:20070101T000000
TZOFFSETFROM:-0600
TZOFFSETTO:-0500
TZNAME:Central Daylight Time
END:DAYLIGHT
BEGIN:STANDARD
RRULE:FREQ=YEARLY;BYMONTH=11;BYDAY=1SU
DTSTART:20070101T000000
TZOFFSETFROM:-0500
TZOFFSETTO:-0600
TZNAME:Central Standard Time
END:STANDARD
END:VTIMEZONE
BEGIN:VEVENT
DTSTART;TZID=America/Chicago:20260511T090000
DTEND;TZID=America/Chicago:20260511T153000
X-MICROSOFT-CDO-ALLDAYEVENT:FALSE
SUMMARY:TRLS: Residential Leasing\, Agency\, and Fundamentals
DESCRIPTION:This is a Texas REALTORS  Leasing Specialist (TRLS) Certification course. course. At the conclusion of this course\, participants will be able to develop criteria for and ability to confidently evaluate a residential lease property\, identify the key elements of a Rental Market Analysis and know how to produce a Rental Market Analysis and discover and discern the landlord's leasing objectives. Participants will be able to recognize how agency is established\, distinguish between the various kinds of agency relationships and identify the duties associated with agency. Attendees will also learn to recognize how agency relationships are dissolved\, how to identify liability issues associated with agency\, match the NAR Code of Ethics to agency relationships\, and identify the various kinds of tenancy relationships. Other topics covered include how to develop criteria for and ability to confidently evaluate a residential lease applicant\, identify and implement successful residential lease marketing tools and techniques\, analyze Fair Housing advertising issues\, examine and evaluate showing procedures to implement a showing plan and create a privacy policy for sensitive information.Provider #: 1Provider: Texas REALTORS  Course: 06249-RECE Instructor:  Angela Ochoa
X-ALT-DESC;FMTTYPE=text/html:<!DOCTYPE html><html><head><title></title></head><body aria-disabled="false" data-gr-ext-installed="" data-new-gr-c-s-check-loaded="14.1282.0" data-new-gr-c-s-loaded="14.1282.0"><p>This is a Texas REALTORS&reg\; Leasing Specialist (TRLS) Certification course. course. At the conclusion of this course\, participants will be able to develop criteria for and ability to confidently evaluate a residential lease property\, identify the key elements of a Rental Market Analysis and know how to produce a Rental Market Analysis and discover and discern the landlord&rsquo\;s leasing objectives. Participants will be able to recognize how agency is established\, distinguish between the various kinds of agency relationships and identify the duties associated with agency. Attendees will also learn to recognize how agency relationships are dissolved\, how to identify liability issues associated with agency\, match the NAR Code of Ethics to agency relationships\, and identify the various kinds of tenancy relationships. Other topics covered include how to develop criteria for and ability to confidently evaluate a residential lease applicant\, identify and implement successful residential lease marketing tools and techniques\, analyze Fair Housing advertising issues\, examine and evaluate showing procedures to implement a showing plan and create a privacy policy for sensitive information.</p><p><strong fr-original-style="" style="font-weight: 700\;">Provider #</strong>: 1</p><p><strong fr-original-style="" style="font-weight: 700\;">Provider</strong>: Texas REALTORS &reg\;</p><p><strong fr-original-style="" style="font-weight: 700\;">Course</strong>: 06249-RECE </p><p><strong fr-original-style="" style="font-weight: 700\;">Instructor:&nbsp\; </strong>Angela Ochoa</p></body></html>
LOCATION:
UID:e.1539.1448955
SEQUENCE:3
DTSTAMP:20260425T213548Z
URL:https://members.spirealtors.com/calendar/Details/trls-residential-leasing-agency-and-fundamentals-1716259?sourceTypeId=Hub
END:VEVENT
END:VCALENDAR
