BEGIN:VCALENDAR
VERSION:2.0
PRODID:-//ChamberMaster//Event Calendar 2.0//EN
METHOD:PUBLISH
X-PUBLISHED-TTL:P1H
REFRESH-INTERVAL:P1H
CALSCALE:GREGORIAN
BEGIN:VTIMEZONE
TZID:America/Chicago
BEGIN:DAYLIGHT
RRULE:FREQ=YEARLY;BYMONTH=3;BYDAY=2SU
DTSTART:20070101T000000
TZOFFSETFROM:-0600
TZOFFSETTO:-0500
TZNAME:Central Daylight Time
END:DAYLIGHT
BEGIN:STANDARD
RRULE:FREQ=YEARLY;BYMONTH=11;BYDAY=1SU
DTSTART:20070101T000000
TZOFFSETFROM:-0500
TZOFFSETTO:-0600
TZNAME:Central Standard Time
END:STANDARD
END:VTIMEZONE
BEGIN:VEVENT
DTSTART;TZID=America/Chicago:20260623T100000
DTEND;TZID=America/Chicago:20260623T120000
X-MICROSOFT-CDO-ALLDAYEVENT:FALSE
SUMMARY:Understanding Agency
DESCRIPTION:Many buyers and sellers do not understand how they are represented in a real estate transaction. This course covers the disclosure of agency roles to clients and the importance of effective communication with customers to help them understand the choices they have. Agents will gain perspective on their role when acting as a subagent and overall intermediary agency roles. They will learn the nature of the agent/client relationship including fiduciary responsibility and how to handle confidential information. This course will provide the real estate license holder with insight regarding the guidelines for ethical and moral conduct on their part when involved in a real estate transaction. How they govern themselves and their responsibilities/obligations to the client. Gain understanding on mandatory disclosure\, who they represent in a transaction and the difference in duties to customer versus clients.Provider #: 1Provider: Texas REALTORS  Course: 0608-RECEInstructor: Clayton Jewett
X-ALT-DESC;FMTTYPE=text/html:<!DOCTYPE html><html><head><title></title></head><body aria-disabled="false" data-gr-ext-installed="" data-new-gr-c-s-check-loaded="14.1282.0" data-new-gr-c-s-loaded="14.1282.0"><p>Many buyers and sellers do not understand how they are represented in a real estate transaction. This course covers the disclosure of agency roles to clients and the importance of effective communication with customers to help them understand the choices they have. Agents will gain perspective on their role when acting as a subagent and overall intermediary agency roles. They will learn the nature of the agent/client relationship including fiduciary responsibility and how to handle confidential information. This course will provide the real estate license holder with insight regarding the guidelines for ethical and moral conduct on their part when involved in a real estate transaction. How they govern themselves and their responsibilities/obligations to the client. Gain understanding on mandatory disclosure\, who they represent in a transaction and the difference in duties to customer versus clients.</p><div><p><strong fr-original-style="" style="font-weight: 700\;">Provider #: 1</strong></p></div><div><p><strong fr-original-style="" style="font-weight: 700\;">Provider:</strong> Texas REALTORS &reg\;</p></div><div><p><strong fr-original-style="" style="font-weight: 700\;">Course: </strong>0608-RECE</p></div><div><p><strong fr-original-style="" style="font-weight: 700\;">Instructor: </strong>Clayton Jewett</p></div></body></html>
LOCATION:
UID:e.1539.1450135
SEQUENCE:3
DTSTAMP:20260425T213337Z
URL:https://members.spirealtors.com/calendar/Details/understanding-agency-1717715?sourceTypeId=Hub
END:VEVENT
END:VCALENDAR
